BEGIN:VCALENDAR
VERSION:2.0
PRODID:-//wp-events-plugin.com//6.6.4.2//EN
BEGIN:VEVENT
UID:31@actief50plus.eu
DTSTART:20260426T120000Z
DTEND:20260426T133000Z
DTSTAMP:20260212T133352Z
URL:https://actief50plus.eu/events/accordeon-middag-2/
SUMMARY:Accordeon middag
DESCRIPTION:. \n\nGezellig mee spelen\, luisteren en daarna dansen met een 
 drankje erbij
CATEGORIES:Middag
END:VEVENT
END:VCALENDAR