BEGIN:VCALENDAR
VERSION:2.0
PRODID:-//wp-events-plugin.com//6.6.4.2//EN
BEGIN:VEVENT
UID:32@actief50plus.eu
DTSTART:20260522T180000Z
DTEND:20260522T210000Z
DTSTAMP:20260318T073257Z
URL:https://actief50plus.eu/events/bbq/
SUMMARY:BBQ
DESCRIPTION:
CATEGORIES:Avond
END:VEVENT
END:VCALENDAR