BEGIN:VCALENDAR
VERSION:2.0
PRODID:-//wp-events-plugin.com//6.6.4.2//EN
BEGIN:VEVENT
UID:33@actief50plus.eu
DTSTART:20260616T120000Z
DTEND:20260616T140000Z
DTSTAMP:20260212T133618Z
URL:https://actief50plus.eu/events/fietstocht-middag-3/
SUMMARY:Fietstocht middag
DESCRIPTION:
CATEGORIES:Middag
END:VEVENT
END:VCALENDAR