BEGIN:VCALENDAR
VERSION:2.0
PRODID:-//wp-events-plugin.com//6.6.4.2//EN
BEGIN:VEVENT
UID:37@actief50plus.eu
DTSTART:20261013T130000Z
DTEND:20261013T160000Z
DTSTAMP:20260212T134852Z
URL:https://actief50plus.eu/events/gezellige-middag-2/
SUMMARY:Gezellige middag
DESCRIPTION:\n\nDat maken we ervan!
CATEGORIES:Middag
END:VEVENT
END:VCALENDAR