BEGIN:VCALENDAR
VERSION:2.0
PRODID:-//wp-events-plugin.com//6.6.4.2//EN
BEGIN:VEVENT
UID:39@actief50plus.eu
DTSTART:20261110T130000Z
DTEND:20261110T143000Z
DTSTAMP:20260212T140735Z
URL:https://actief50plus.eu/events/infomiddag-2/
SUMMARY:Infomiddag
DESCRIPTION:
CATEGORIES:Middag
END:VEVENT
END:VCALENDAR