BEGIN:VCALENDAR
VERSION:2.0
PRODID:-//wp-events-plugin.com//6.6.4.2//EN
BEGIN:VEVENT
UID:40@actief50plus.eu
DTSTART:20261218T160000Z
DTEND:20261218T180000Z
DTSTAMP:20260212T140843Z
URL:https://actief50plus.eu/events/kerstviering-3/
SUMMARY:Kerstviering
DESCRIPTION:
CATEGORIES:Avond
END:VEVENT
END:VCALENDAR