BEGIN:VCALENDAR
VERSION:2.0
PRODID:-//wp-events-plugin.com//6.6.4.2//EN
BEGIN:VEVENT
UID:38@actief50plus.eu
DTSTART:20261030T183000Z
DTEND:20261030T210000Z
DTSTAMP:20260212T140622Z
URL:https://actief50plus.eu/events/live-muziek/
SUMMARY:Live muziek
DESCRIPTION:
CATEGORIES:Avond
END:VEVENT
END:VCALENDAR