BEGIN:VCALENDAR
VERSION:2.0
PRODID:-//wp-events-plugin.com//6.6.4.2//EN
BEGIN:VEVENT
UID:35@actief50plus.eu
DTSTART:20260721T120000Z
DTEND:20260721T160000Z
DTSTAMP:20260212T134249Z
URL:https://actief50plus.eu/events/middaguitstapje-80-plus/
SUMMARY:Middaguitstapje 80 plus
DESCRIPTION:\n\nVlaaienmuseum Horst
CATEGORIES:Middag
END:VEVENT
END:VCALENDAR