BEGIN:VCALENDAR
VERSION:2.0
PRODID:-//wp-events-plugin.com//6.6.4.2//EN
BEGIN:VEVENT
UID:34@actief50plus.eu
DTSTART:20260707T120000Z
DTEND:20260707T140000Z
DTSTAMP:20260212T133904Z
URL:https://actief50plus.eu/events/middaguitstapje/
SUMMARY:Middaguitstapje
DESCRIPTION:\n\nToon KortOoms park
CATEGORIES:Middag
END:VEVENT
END:VCALENDAR