BEGIN:VCALENDAR
VERSION:2.0
PRODID:-//wp-events-plugin.com//6.6.4.2//EN
BEGIN:VEVENT
UID:36@actief50plus.eu
DTSTART:20260901T180000Z
DTEND:20260901T200000Z
DTSTAMP:20260212T134712Z
URL:https://actief50plus.eu/events/speurtocht-vredepeel/
SUMMARY:Speurtocht Vredepeel
DESCRIPTION:\n\nOnder voor behoud
CATEGORIES:Avond
END:VEVENT
END:VCALENDAR